BEGIN:VCALENDAR
VERSION:2.0
CALSCALE:GREGORIAN
PRODID:-//Diputació de Barcelona//DibaCMS//EN
BEGIN:VEVENT
UID:8551
DTSTAMP:20260426T030844
DTSTART:20260126T090000
DTEND:20260126T100000
SUMMARY:Banca mòbil de la Generalitat de Catalunya: CAIXABANK
LOCATION:
METHOD:PUBLISH
X-WR-CALNAME:st.martia@santmartidalbars.cat
X-WR-TIMEZONE:Europe/Madrid
DESCRIPTION:Davant de l'ajuntament

URI:https://www.santmartidalbars.cat/actualitat/agenda/8551-banca-mobil-de-la-generalitat-de-catalunya-caixabank.html
CLASS:PUBLIC
END:VEVENT
END:VCALENDAR
