BEGIN:VCALENDAR
VERSION:2.0
CALSCALE:GREGORIAN
PRODID:-//Diputació de Barcelona//DibaCMS//EN
BEGIN:VEVENT
UID:8505
DTSTAMP:20260426T031114
DTSTART:20261221T000000
DTEND:20261221T000000
SUMMARY:Recollida d'andròmines
LOCATION:
METHOD:PUBLISH
X-WR-CALNAME:st.martia@santmartidalbars.cat
X-WR-TIMEZONE:Europe/Madrid
DESCRIPTION:Trucar a l’ajuntament al  938 530 101 perquè us apuntin pel servei de recollida. 

URI:https://www.santmartidalbars.cat/actualitat/agenda/8505-recollida-dandromines.html
CLASS:PUBLIC
END:VEVENT
END:VCALENDAR
